BEGIN:VCALENDAR
VERSION:2.0
PRODID:-//Tukios.com/
BEGIN:VEVENT
UID:946e2977-d8fd-45a3-8be0-c9be07eca978@obituaries.wareingcremation.ca
DTSTAMP:20260423T084636Z
DTSTART:20260509T170000Z
DTEND:20260509T200000Z
SUMMARY:Celebration of Life
DESCRIPTION:
URL:https://obituaries.wareingcremation.ca/diane-lazenby
LOCATION:Knights of Columbus Hall 265 Wellington Street  St. Thomas ON 
	N5R 2S6
GEO:42.7752767;-81.1794769
END:VEVENT
END:VCALENDAR