BEGIN:VCALENDAR
VERSION:2.0
PRODID:-//Tukios.com/
BEGIN:VEVENT
UID:aa5afe84-f9c9-4b48-a0ae-9be4f4ecedf0@obituaries.wareingcremation.ca
DTSTAMP:20260424T124512Z
DTSTART:20260425T153000Z
DTEND:20260425T163000Z
SUMMARY:Celebration of Life
DESCRIPTION:
URL:https://obituaries.wareingcremation.ca/ellen-lyon
LOCATION:Trinity United Church 290 Muskoka Road North  Gravenhurst ON P1P 
	1H3
GEO:44.9214095;-79.3741986
END:VEVENT
END:VCALENDAR